BEGIN:VCALENDAR
VERSION:2.0
PRODID:https://github.com/derhansen/sf_event_mgt
METHOD:PUBLISH
BEGIN:VEVENT
UID:2960-872@www.ameos.de
CLASS: PUBLIC
SUMMARY:Elterninfoabend im Mai
DESCRIPTION:Das Team der Geburtshilfe am AMEOS Klinikum Aschersleben lädt a
 m 14. Mai 2025 ab 17 Uhr zum Informationsabend für werdende Eltern ein. In 
 entspannter Atmosphäre erläutern die Leitende Hebamme Katrin Herrmann und Ä
 rztin Svenja Benedix das Konzept der familienorientierten, sanften Geburtsh
 ilfe und geben Einblicke in die umfassenden Betreuungs- und Unterstützungsa
 ngebote des Ascherslebener „Storchen-Teams“. \n\nDer Elterninfoabend bietet
  außerdem Gelegenheit, die umfangreich und behaglich eingerichteten Kreißsä
 le sowie die komfortablen Räumlichkeiten der Wochenstation zu besichtigen u
 nd individuelle Anliegen und Fragen mit dem „Storchen-Team“ zu besprechen. 
 \n\nDie Teilnahme am Elterninfoabend ist kostenfrei, eine Anmeldung ist nic
 ht erforderlich. Wir freuen uns auf Ihr Kommen!Weitere Informationen finden
  Sie auf den Seiten der Geburtshilfe am AMEOS Klinikum Aschersleben.
LOCATION:AMEOS Klinikum Aschersleben
DTSTAMP:20250226T134408Z
DTSTART:20250514T150000Z
DTEND:20250514T170000Z
END:VEVENT
END:VCALENDAR
