BEGIN:VCALENDAR
VERSION:2.0
PRODID:https://github.com/derhansen/sf_event_mgt
METHOD:PUBLISH
BEGIN:VEVENT
UID:2414-872@www.ameos.de
CLASS: PUBLIC
SUMMARY:Webinar "Psyche im Gespräch" im März
DESCRIPTION:Themen:\n\nVerhaltensabhängigkeitsstörungen - eine unterschätzt
 e Gefahr? (Dr. med. YooJeong Lee Chefärztin Suchtmedizinisches Zentrum, AME
 OS Klinikum Osnabrück)\n\nBorderline-Persönlichkeitsstörung und Traumafolge
 störungen (Ulrike Kröger, Psych. Psychotherapeutin, DBT Therapeutin (DDBT) 
 AMEOS Klinikum Osnabrück) \n\nDas Programm können Sie hier downloaden. \n\n
 Moderation: Prof. Dr. med. Bernhard Croissant, M.A. Ärztlicher Direktor und
  Chefarzt AMEOS Klinikum Osnabrück
LOCATION:Zoom-Webinar
DTSTAMP:20230322T150042Z
DTSTART:20230323T150000Z
END:VEVENT
END:VCALENDAR
