BEGIN:VCALENDAR
VERSION:2.0
PRODID:https://github.com/derhansen/sf_event_mgt
METHOD:PUBLISH
BEGIN:VEVENT
UID:2673-872@www.ameos.de
CLASS: PUBLIC
SUMMARY:Das kranke Kniegelenk - Möglichkeiten der rekonstruktiven Gelenkchi
 rurgie
DESCRIPTION:Am Mittwoch, den 20. März 2024, findet eine ärztliche Fortbildu
 ng zum Thema "Das kranke Kniegelenk - Möglichkeiten der rekonstruktiven Gel
 enkchirurgie" statt. \n\nReferent: Chefarzt Lars Schedler an der Klinik für
  Unfallchirurgie, AMEOS Klinikum Bernburg\n\nInfo: Die Veranstaltung wird v
 on der Ärztekammer Sachsen-Anhalt mit 1 Fortbildungspunkt, Kategorie A, hon
 oriert. 
LOCATION:AMEOS Klinikum Bernburg
DTSTAMP:20240313T160302Z
DTSTART:20240320T143000Z
DTEND:20240320T153000Z
END:VEVENT
END:VCALENDAR
