BEGIN:VCALENDAR
VERSION:2.0
PRODID:https://github.com/derhansen/sf_event_mgt
METHOD:PUBLISH
BEGIN:VEVENT
UID:2943-872@www.ameos.de
CLASS: PUBLIC
SUMMARY:Stärke Dein Herz! Herzschwäche erkennen und behandeln
DESCRIPTION:Rund vier Millionen Menschen in Deutschland leiden an Herzschwä
 che. Je früher die Krankheit erkannt wird, umso eher lässt sich der Verlauf
  bremsen. In den Herzwochen 2024 der Deutschen Herzstiftung möchten auch wi
 r daher über diese Erkrankung informieren. Das Ziel ist, dass möglichst vie
 le Menschen die Warnzeichen, mit denen sich die Herzschwäche bemerkbar mach
 t, erkennen und wissen, wie man der Herzschwäche entgegenwirken kann. \n\nE
 intritt frei - Anmeldung erbeten bei Dr. Britta Kubera, Tel.: 0151 746 091 
 75, E-Mail: britta.kubera@ameos.de\n\n\n\n
LOCATION:SeeLoge Eutin
DTSTAMP:20241025T111639Z
DTSTART:20241127T160000Z
DTEND:20241127T180000Z
END:VEVENT
END:VCALENDAR
