BEGIN:VCALENDAR
VERSION:2.0
PRODID:https://github.com/derhansen/sf_event_mgt
METHOD:PUBLISH
BEGIN:VEVENT
UID:3613-872@www.ameos.de
CLASS: PUBLIC
SUMMARY:Ausstellung: Unterwegs – Bilder und Skulpturen
DESCRIPTION:In einer Symbiose aus Malerei und Bildhauerei präsentieren die 
 beiden ostholsteinischen Künstlerinnen Werke, die das Unterwegssein als Zus
 tand des Lebens und der Kunst beleuchten. Während sich Susanne Cromwell in 
 ihrer Malerei in ausdrucksstarken Formen und Farben der Dynamik der Natur –
  dem Flug der Vögel, dem Wandel der Jahresszeiten und dem Wechselspiel von 
 Licht und Schatten – widmet, verwandelt Petra Schubert bildhauerisch die fl
 ießenden Bewegungen der Natur in greifbare Skulpturen. Mit zumeist natürlic
 hen Materialien werden figürliche und organische Formen in ihrer ursprüngli
 chen Gestalt neu interpretiert.\n\nEin spannender künstlerischer Dialog und
  eine Einladung, den Blick auf die Natur aus einer anderen Perspektive zu e
 rleben.\n\nAusstellungseröffnung: Donnerstag, den 30. April 2026, um 18:30 
 im Hans-Ralfs-Haus für Kunst und Kultur.Einführung: Anke Kessenich, Leiteri
 n des Hans-Ralfs-Hauses für Kunst und Kultur, im Gespräch mit den Künstleri
 nnen Susanne Cromwell und Petra Schubert\n\nDauer der Ausstellung: 30. Apri
 l – 05. Juni 2026Öffnungszeiten: Montag bis Donnerstag von 9:00 – 16:00 Uhr
 , Freitag von 9:00 – 14:30 Uhr sowie an allen Sonn- und Feiertagen von 14:0
 0 – 16:00 Uhr in Anwesenheit der Künstlerinnen  \n\n\n\n
DTSTAMP:20260423T065655Z
DTSTART:20260430T163000Z
DTEND:20260605T123000Z
END:VEVENT
END:VCALENDAR
