BEGIN:VCALENDAR
VERSION:2.0
PRODID:https://github.com/derhansen/sf_event_mgt
METHOD:PUBLISH
BEGIN:VEVENT
UID:2569-872@www.ameos.de
CLASS: PUBLIC
SUMMARY:25 Jahre Tag des Kinderkrankenhauses
DESCRIPTION:Zum Tag des Kinderkrankenhauses erwartet dich wieder jede Menge
  Spiel und Spaß. Freut euch auf ein vielfältiges und erlebnisreiches Progra
 mm mit diesen Höhepunkten:\n\n 	Hip Hop Aufführung zum Mitmachen 	Feuerwehr
  mit Löschtrabi 	Reiten mit Pferden vom Tinkerhof Schauen 	Clown Tortellini
  	Ernährungsberatung 	Bewegungsparcours mit Physiotherapie und Firma Steink
 e 	Puppendoktor „Pille“: Sprechstunde für Teddys und Puppen mit großen und 
 kleinen Wehwehchen 	Mal- und Bastelstraße 	 	Für das leibliche Wohl ist ges
 orgt. Der Eintritt ist frei! 	Das Team des Frau-Mutter-Kind-Zentrums freut 
 sich auf euer Kommen! \n\nwww.gkind.de 
LOCATION:AMEOS Klinikum Halberstadt
DTSTAMP:20230717T120805Z
DTSTART:20230903T120000Z
DTEND:20230903T150000Z
END:VEVENT
END:VCALENDAR
