BEGIN:VCALENDAR
VERSION:2.0
PRODID:https://github.com/derhansen/sf_event_mgt
METHOD:PUBLISH
BEGIN:VEVENT
UID:3610-872@www.ameos.de
CLASS: PUBLIC
SUMMARY:Junge Pflege Kongress Bochum
DESCRIPTION:
LOCATION:RuhrCongress Bochum
DTSTAMP:20260423T131603Z
DTSTART:20260507T063000Z
DTEND:20260507T133000Z
END:VEVENT
END:VCALENDAR
