BEGIN:VCALENDAR
VERSION:2.0
PRODID:https://github.com/derhansen/sf_event_mgt
METHOD:PUBLISH
BEGIN:VEVENT
UID:2424-872@www.ameos.de
CLASS: PUBLIC
SUMMARY:Kurs für pflegende Angehörige von Demenzerkrankten (3 Termine)
DESCRIPTION:Wird bei einem Menschen eine Demenzerkrankung festgestellt, geh
 en sowohl der Betroffene als auch die Familie durch ein Wechselbad von Gefü
 hlen. An Demenz erkrankte Menschen benötigen im täglichen Leben besondere A
 ufmerksamkeit und Zuspruch. Umso wichtiger ist es, sich gut zu informieren 
 und sich rechtzeitig Unterstützung zu holen. Um Angehörigen von Demenzerkra
 nkten das Rüstzeug mitzugeben, gut mit der Situation umgehen zu können, bie
 tet das AMEOS Klinikum St. Clemens Oberhausen (Wilhelmstr. 34) einen Kurs z
 ur Pflege von Menschen mit Demenz an. \n\nDer nächste Kurs startet am Freit
 ag 12. Juni 2026 und umfasst insgesamt drei Termine (Folgetermine: 19. Juni
  und 26. Juni) jeweils von 09.00 Uhr bis 12.30 Uhr. Die Teilnahme ist koste
 nfrei.\n\nAnmeldung bitte unter Tel. 0208 695-6993
DTSTAMP:20260421T083236Z
DTSTART:20260612T070000Z
DTEND:20260612T103000Z
END:VEVENT
END:VCALENDAR
