BEGIN:VCALENDAR
VERSION:2.0
PRODID:https://github.com/derhansen/sf_event_mgt
METHOD:PUBLISH
BEGIN:VEVENT
UID:3614-872@www.ameos.de
CLASS: PUBLIC
SUMMARY:Oberhausener Gesundheitstag
DESCRIPTION:
LOCATION:BERO Zentrum
DTSTAMP:20260423T132109Z
DTSTART:20260530T080000Z
DTEND:20260530T130000Z
END:VEVENT
END:VCALENDAR
