BEGIN:VCALENDAR
VERSION:2.0
PRODID:https://github.com/derhansen/sf_event_mgt
METHOD:PUBLISH
BEGIN:VEVENT
UID:2566-872@www.ameos.de
CLASS: PUBLIC
SUMMARY:Gemeinsam gegen Schlaganfall
DESCRIPTION:Gesundheitsrisiken kennen, Symptome deuten, schnell reagieren –
  gesundheitliche Aufklärung kann Leben retten. Die AMEOS Einrichtungen Ober
 hausen und die Stadt Oberhausen engagieren sich aktiv, um einer der gefährl
 ichsten Volkskrankheiten mit wissenswerten Informationen vorzubeugen.\n\nDa
 für  steht  am 31. Mai von 9:00 Uhr bis 13:00 Uhr der signalrote Infobus de
 r Initiative „Herzenssache Lebenszeit“ vor dem Technischen Rathaus in Sterk
 rade.\n\nInteressierte haben dann die Möglichkeit, im direkten Gespräch mit
  Ärztinnen und Ärzten der Fachrichtungen Neurologie und Kardiologie sowie M
 itarbeitenden der Ernährungsberatung des AMEOS Klinikums St. Clemens Oberha
 usen zu sprechen und ihr persönliches Risiko für Diabetes oder Herz-Kreisla
 uf-Erkrankungen testen zu lassen. Hierfür werden kostenlos Blutdruck und Bl
 utzuckerwerte gemessen. In der Zeit von 10:00 Uhr bis 13:00 Uhr führt der S
 tadtsportbund einen Alltags-Fitness-Test durch und gibt Tipps zur Steigerun
 g der persönlichen Fitness. Darüber hinaus steht die Selbsthilfe-Kontaktste
 lle des Paritätischen Oberhausen für Fragen rund um Selbsthilfe zur Verfügu
 ng.\n\nIn der gemeinsamen Aktion der Stadt Oberhausen und Fachärzten der St
 roke-Unit in Oberhausen (einer speziellen Station zur Behandlung von Schlag
 anfällen) erhalten Bürgerinnen und Bürger die einmalige Gelegenheit, sich p
 ersönlich zu informieren und mit Gesundheitsexpertinnen und -experten ins G
 espräch zu kommen.
LOCATION:Sterkrader Markt, vor dem Technischen Rathaus
DTSTAMP:20230525T104037Z
DTSTART:20230531T070000Z
DTEND:20230531T110000Z
END:VEVENT
END:VCALENDAR
